BEGIN:VCALENDAR
VERSION:2.0
PRODID:-//Les Flammes Athlétiques Chamalières - ECPv6.15.20//NONSGML v1.0//EN
CALSCALE:GREGORIAN
METHOD:PUBLISH
X-ORIGINAL-URL:https://lfa-chamalieres.fr
X-WR-CALDESC:Évènements pour Les Flammes Athlétiques Chamalières
REFRESH-INTERVAL;VALUE=DURATION:PT1H
X-Robots-Tag:noindex
X-PUBLISHED-TTL:PT1H
BEGIN:VTIMEZONE
TZID:Europe/Paris
BEGIN:DAYLIGHT
TZOFFSETFROM:+0100
TZOFFSETTO:+0200
TZNAME:CEST
DTSTART:20250330T010000
END:DAYLIGHT
BEGIN:STANDARD
TZOFFSETFROM:+0200
TZOFFSETTO:+0100
TZNAME:CET
DTSTART:20251026T010000
END:STANDARD
BEGIN:DAYLIGHT
TZOFFSETFROM:+0100
TZOFFSETTO:+0200
TZNAME:CEST
DTSTART:20260329T010000
END:DAYLIGHT
BEGIN:STANDARD
TZOFFSETFROM:+0200
TZOFFSETTO:+0100
TZNAME:CET
DTSTART:20261025T010000
END:STANDARD
BEGIN:DAYLIGHT
TZOFFSETFROM:+0100
TZOFFSETTO:+0200
TZNAME:CEST
DTSTART:20270328T010000
END:DAYLIGHT
BEGIN:STANDARD
TZOFFSETFROM:+0200
TZOFFSETTO:+0100
TZNAME:CET
DTSTART:20271031T010000
END:STANDARD
END:VTIMEZONE
BEGIN:VEVENT
DTSTART;VALUE=DATE:20260201
DTEND;VALUE=DATE:20260202
DTSTAMP:20260424T123733
CREATED:20251012T185022Z
LAST-MODIFIED:20260129T065358Z
UID:13199-1769904000-1769990399@lfa-chamalieres.fr
SUMMARY:Cross Thiers Iloa
DESCRIPTION:13:40 – Course poussines \, poussins – Cross\n14:00 – Course benjamins \,benjamines et minimes filles – Cross\n14:25 – Course minimes garcon\,cadettes et cadets – Cross\n14:50 – Course mini poussins \,mini poussines – Cross\n15:30 – Course juniores\, espoires\,seniores\,veteranes femmes – Cross*\n15:30 – Course juniors seniors et vétéran hommes – Cross \nBASE LOISIRS ILOA A THIERS
URL:https://lfa-chamalieres.fr/agenda/cross-thiers-iloa
END:VEVENT
END:VCALENDAR