BEGIN:VCALENDAR
VERSION:2.0
PRODID:-//Les Flammes Athlétiques Chamalières - ECPv6.15.20//NONSGML v1.0//EN
CALSCALE:GREGORIAN
METHOD:PUBLISH
X-ORIGINAL-URL:https://lfa-chamalieres.fr
X-WR-CALDESC:Évènements pour Les Flammes Athlétiques Chamalières
REFRESH-INTERVAL;VALUE=DURATION:PT1H
X-Robots-Tag:noindex
X-PUBLISHED-TTL:PT1H
BEGIN:VTIMEZONE
TZID:Europe/Paris
BEGIN:DAYLIGHT
TZOFFSETFROM:+0100
TZOFFSETTO:+0200
TZNAME:CEST
DTSTART:20240331T010000
END:DAYLIGHT
BEGIN:STANDARD
TZOFFSETFROM:+0200
TZOFFSETTO:+0100
TZNAME:CET
DTSTART:20241027T010000
END:STANDARD
BEGIN:DAYLIGHT
TZOFFSETFROM:+0100
TZOFFSETTO:+0200
TZNAME:CEST
DTSTART:20250330T010000
END:DAYLIGHT
BEGIN:STANDARD
TZOFFSETFROM:+0200
TZOFFSETTO:+0100
TZNAME:CET
DTSTART:20251026T010000
END:STANDARD
BEGIN:DAYLIGHT
TZOFFSETFROM:+0100
TZOFFSETTO:+0200
TZNAME:CEST
DTSTART:20260329T010000
END:DAYLIGHT
BEGIN:STANDARD
TZOFFSETFROM:+0200
TZOFFSETTO:+0100
TZNAME:CET
DTSTART:20261025T010000
END:STANDARD
END:VTIMEZONE
BEGIN:VEVENT
DTSTART;VALUE=DATE:20251207
DTEND;VALUE=DATE:20251208
DTSTAMP:20260421T121621
CREATED:20251012T184646Z
LAST-MODIFIED:20251202T160321Z
UID:13189-1765065600-1765151999@lfa-chamalieres.fr
SUMMARY:Cross Issoire
DESCRIPTION:Complexe sportif « du bout du monde »\nhttps://maps.app.goo.gl/Wsk43vfxb2qRixSU8 \nHORAIRES DEPART DE COURSE \n11h45 – Vétérans masculins à partir de m1\n12h30 – Eveils athlétique filles\n12h40 – Eveils athlétique garçons\n12h50 – Poussines\n13h00 – Poussins\n13h10 – Benjamines\n13h25 – Benjamins\n13h40 – Minimes filles\n14h00 – Minimes garçons\n14h20 – Cadettes\n14h40 – Cadets\n15h05 – Juniors\, espoirs\, seniors\, vétérans féminines\n15h40 – Juniors masculins\n15h40 – Espoirs seniors masters 0 masculins
URL:https://lfa-chamalieres.fr/agenda/cross-issoire-3
END:VEVENT
BEGIN:VEVENT
DTSTART;VALUE=DATE:20251214
DTEND;VALUE=DATE:20251215
DTSTAMP:20260421T121621
CREATED:20251012T184746Z
LAST-MODIFIED:20251208T160501Z
UID:13191-1765670400-1765756799@lfa-chamalieres.fr
SUMMARY:Cross Pérignat-les-sarlièves
DESCRIPTION:12h00 – Course bef et bem\n12h20 – Cross mif\n12h45 – Cross mim – caf\n13h10 – Cross cam jum juf\n13h35 – Cross esf sef maf\n14h10 – Cross mam\n15h00 – Cross court sef sem\n15h15 – Cross pom pof\n15h30 – Cross esm sem mom\n16h15 – Kids cross eveils
URL:https://lfa-chamalieres.fr/agenda/cross-perignat-les-sarlieves-3
END:VEVENT
END:VCALENDAR