BEGIN:VCALENDAR
VERSION:2.0
PRODID:-//Les Flammes Athlétiques Chamalières - ECPv6.15.20//NONSGML v1.0//EN
CALSCALE:GREGORIAN
METHOD:PUBLISH
X-WR-CALNAME:Les Flammes Athlétiques Chamalières
X-ORIGINAL-URL:https://lfa-chamalieres.fr
X-WR-CALDESC:Évènements pour Les Flammes Athlétiques Chamalières
REFRESH-INTERVAL;VALUE=DURATION:PT1H
X-Robots-Tag:noindex
X-PUBLISHED-TTL:PT1H
BEGIN:VTIMEZONE
TZID:Europe/Paris
BEGIN:DAYLIGHT
TZOFFSETFROM:+0100
TZOFFSETTO:+0200
TZNAME:CEST
DTSTART:20250330T010000
END:DAYLIGHT
BEGIN:STANDARD
TZOFFSETFROM:+0200
TZOFFSETTO:+0100
TZNAME:CET
DTSTART:20251026T010000
END:STANDARD
BEGIN:DAYLIGHT
TZOFFSETFROM:+0100
TZOFFSETTO:+0200
TZNAME:CEST
DTSTART:20260329T010000
END:DAYLIGHT
BEGIN:STANDARD
TZOFFSETFROM:+0200
TZOFFSETTO:+0100
TZNAME:CET
DTSTART:20261025T010000
END:STANDARD
BEGIN:DAYLIGHT
TZOFFSETFROM:+0100
TZOFFSETTO:+0200
TZNAME:CEST
DTSTART:20270328T010000
END:DAYLIGHT
BEGIN:STANDARD
TZOFFSETFROM:+0200
TZOFFSETTO:+0100
TZNAME:CET
DTSTART:20271031T010000
END:STANDARD
END:VTIMEZONE
BEGIN:VEVENT
DTSTART;VALUE=DATE:20260104
DTEND;VALUE=DATE:20260105
DTSTAMP:20260423T123600
CREATED:20251012T184820Z
LAST-MODIFIED:20260101T164528Z
UID:13193-1767484800-1767571199@lfa-chamalieres.fr
SUMMARY:Cross Riom
DESCRIPTION:Toutes les infos
URL:https://lfa-chamalieres.fr/agenda/cross-riom-2
LOCATION:Parc du Cerey\, 1b Avenue Jean Monnet\, Riom\, 63200\, France
END:VEVENT
BEGIN:VEVENT
DTSTART;VALUE=DATE:20260111
DTEND;VALUE=DATE:20260112
DTSTAMP:20260423T123600
CREATED:20251012T184854Z
LAST-MODIFIED:20260108T091355Z
UID:13195-1768089600-1768175999@lfa-chamalieres.fr
SUMMARY:Cross St-Georges-de-Mons
DESCRIPTION:INFOS DEPART DES COURSES\, venir au minimum 1h avant ! \n11h45 – Course masters masculins m1 à m10\n12h40 – Course bem et bef\n13h00 – Course mim et mif\n13h30 – Course cam – caf – juf\n14h00 – Féminines esf – sef – maf\n14h40 – Juniors m\n14h40 – Course es – se et m0\n15h30 – Course poussins – poussines\n15h50 – Kid cross ecole athlé  \nComplexe Sportif Jean Duval à Saint Georges de Mons \nInfos supp
URL:https://lfa-chamalieres.fr/agenda/cross-st-georges-de-mons-5
END:VEVENT
BEGIN:VEVENT
DTSTART;VALUE=DATE:20260125
DTEND;VALUE=DATE:20260126
DTSTAMP:20260423T123600
CREATED:20251012T184952Z
LAST-MODIFIED:20251012T184952Z
UID:13197-1769299200-1769385599@lfa-chamalieres.fr
SUMMARY:Cross 1/4 Finale
DESCRIPTION:Brives-Charensac 43
URL:https://lfa-chamalieres.fr/agenda/cross-1-4-finale
END:VEVENT
END:VCALENDAR