BEGIN:VCALENDAR
VERSION:2.0
PRODID:-//Les Flammes Athlétiques Chamalières - ECPv6.15.20//NONSGML v1.0//EN
CALSCALE:GREGORIAN
METHOD:PUBLISH
X-ORIGINAL-URL:https://lfa-chamalieres.fr
X-WR-CALDESC:Évènements pour Les Flammes Athlétiques Chamalières
REFRESH-INTERVAL;VALUE=DURATION:PT1H
X-Robots-Tag:noindex
X-PUBLISHED-TTL:PT1H
BEGIN:VTIMEZONE
TZID:Europe/Paris
BEGIN:DAYLIGHT
TZOFFSETFROM:+0100
TZOFFSETTO:+0200
TZNAME:CEST
DTSTART:20250330T010000
END:DAYLIGHT
BEGIN:STANDARD
TZOFFSETFROM:+0200
TZOFFSETTO:+0100
TZNAME:CET
DTSTART:20251026T010000
END:STANDARD
BEGIN:DAYLIGHT
TZOFFSETFROM:+0100
TZOFFSETTO:+0200
TZNAME:CEST
DTSTART:20260329T010000
END:DAYLIGHT
BEGIN:STANDARD
TZOFFSETFROM:+0200
TZOFFSETTO:+0100
TZNAME:CET
DTSTART:20261025T010000
END:STANDARD
BEGIN:DAYLIGHT
TZOFFSETFROM:+0100
TZOFFSETTO:+0200
TZNAME:CEST
DTSTART:20270328T010000
END:DAYLIGHT
BEGIN:STANDARD
TZOFFSETFROM:+0200
TZOFFSETTO:+0100
TZNAME:CET
DTSTART:20271031T010000
END:STANDARD
END:VTIMEZONE
BEGIN:VEVENT
DTSTART;VALUE=DATE:20260201
DTEND;VALUE=DATE:20260202
DTSTAMP:20260422T173328
CREATED:20251012T185022Z
LAST-MODIFIED:20260129T065358Z
UID:13199-1769904000-1769990399@lfa-chamalieres.fr
SUMMARY:Cross Thiers Iloa
DESCRIPTION:13:40 – Course poussines \, poussins – Cross\n14:00 – Course benjamins \,benjamines et minimes filles – Cross\n14:25 – Course minimes garcon\,cadettes et cadets – Cross\n14:50 – Course mini poussins \,mini poussines – Cross\n15:30 – Course juniores\, espoires\,seniores\,veteranes femmes – Cross*\n15:30 – Course juniors seniors et vétéran hommes – Cross \nBASE LOISIRS ILOA A THIERS
URL:https://lfa-chamalieres.fr/agenda/cross-thiers-iloa
END:VEVENT
BEGIN:VEVENT
DTSTART;VALUE=DATE:20260207
DTEND;VALUE=DATE:20260208
DTSTAMP:20260422T173328
CREATED:20260108T100546Z
LAST-MODIFIED:20260108T100546Z
UID:13375-1770422400-1770508799@lfa-chamalieres.fr
SUMMARY:Triathlon BE/MI
DESCRIPTION:
URL:https://lfa-chamalieres.fr/agenda/triathlon-be-mi-8
LOCATION:Stadium Jean Pellez à Aubière\, 44 rue Pasteur\, Aubière\, 63170\, France
ATTACH;FMTTYPE=image/png:https://lfa-chamalieres.fr/wp-content/uploads/2022/11/benjamins-minimes_carrousel.png
END:VEVENT
BEGIN:VEVENT
DTSTART;VALUE=DATE:20260215
DTEND;VALUE=DATE:20260216
DTSTAMP:20260422T173328
CREATED:20251012T185120Z
LAST-MODIFIED:20251012T185120Z
UID:13201-1771113600-1771199999@lfa-chamalieres.fr
SUMMARY:Cross Demi-Finale CHPT France
DESCRIPTION:Mably 42
URL:https://lfa-chamalieres.fr/agenda/cross-demi-finale-chpt-france
END:VEVENT
END:VCALENDAR